BEGIN:VCALENDAR
VERSION:2.0
PRODID:-//Musikverlag Ries &amp; Erler - ECPv6.15.19//NONSGML v1.0//EN
CALSCALE:GREGORIAN
METHOD:PUBLISH
X-WR-CALNAME:Musikverlag Ries &amp; Erler
X-ORIGINAL-URL:https://www.rieserler.de
X-WR-CALDESC:Veranstaltungen für Musikverlag Ries &amp; Erler
REFRESH-INTERVAL;VALUE=DURATION:PT1H
X-Robots-Tag:noindex
X-PUBLISHED-TTL:PT1H
BEGIN:VTIMEZONE
TZID:Europe/Berlin
BEGIN:DAYLIGHT
TZOFFSETFROM:+0100
TZOFFSETTO:+0200
TZNAME:CEST
DTSTART:20250330T010000
END:DAYLIGHT
BEGIN:STANDARD
TZOFFSETFROM:+0200
TZOFFSETTO:+0100
TZNAME:CET
DTSTART:20251026T010000
END:STANDARD
BEGIN:DAYLIGHT
TZOFFSETFROM:+0100
TZOFFSETTO:+0200
TZNAME:CEST
DTSTART:20260329T010000
END:DAYLIGHT
BEGIN:STANDARD
TZOFFSETFROM:+0200
TZOFFSETTO:+0100
TZNAME:CET
DTSTART:20261025T010000
END:STANDARD
BEGIN:DAYLIGHT
TZOFFSETFROM:+0100
TZOFFSETTO:+0200
TZNAME:CEST
DTSTART:20270328T010000
END:DAYLIGHT
BEGIN:STANDARD
TZOFFSETFROM:+0200
TZOFFSETTO:+0100
TZNAME:CET
DTSTART:20271031T010000
END:STANDARD
END:VTIMEZONE
BEGIN:VEVENT
DTSTART;TZID=Europe/Berlin:20260419T000000
DTEND;TZID=Europe/Berlin:20260419T235900
DTSTAMP:20260419T171425
CREATED:20251029T110038Z
LAST-MODIFIED:20251029T110038Z
UID:29191-1776556800-1776643140@www.rieserler.de
SUMMARY:OUVERTURE NR. 2 D-DUR von Emilie Mayer in Basel (CH)
DESCRIPTION:Komponist:in: Emilie Mayer \nBearbeiter:in: Bert Hagels \nAusführende: Titus Orchester
URL:https://www.rieserler.de/konzerttermin/ouverture-nr-2-d-dur-von-emilie-mayer-in-basel-schweiz/
LOCATION:Tituskirche\, Im Tiefen Boden 75\, Basel\, 4059\, Switzerland
ATTACH;FMTTYPE=image/jpeg:https://www.rieserler.de/wp-content/uploads/2024/05/51620-e1721209520836.jpg
END:VEVENT
BEGIN:VEVENT
DTSTART;TZID=Europe/Berlin:20260419T000000
DTEND;TZID=Europe/Berlin:20260419T235900
DTSTAMP:20260419T171425
CREATED:20251029T110307Z
LAST-MODIFIED:20251029T110307Z
UID:29193-1776556800-1776643140@www.rieserler.de
SUMMARY:ORCHESTRAL WORKS von Julie Reisserová in Basel (CH)
DESCRIPTION:Komponist:in: Julie Reisserová \nHerausgeber:in: Jean-Paul C. Montagnier \nAusführende: Titus Orchester
URL:https://www.rieserler.de/konzerttermin/orchestral-works-von-julie-reisserova-in-basel-schweiz/
LOCATION:Tituskirche\, Im Tiefen Boden 75\, Basel\, 4059\, Switzerland
ATTACH;FMTTYPE=image/jpeg:https://www.rieserler.de/wp-content/uploads/2025/01/51695-e1736436029168.jpg
END:VEVENT
BEGIN:VEVENT
DTSTART;TZID=Europe/Berlin:20260419T150000
DTEND;TZID=Europe/Berlin:20260419T150000
DTSTAMP:20260419T171425
CREATED:20250625T080056Z
LAST-MODIFIED:20250625T084716Z
UID:28352-1776610800-1776610800@www.rieserler.de
SUMMARY:DIE KLEINE MEERJUNGFRAU von Ákos Hoffmann in Leipzig
DESCRIPTION:Komponist:in: Ákos Hoffmann \nAusführende: Orchester der musikalischen Komödie / Tobias Engeli (Ltg.)
URL:https://www.rieserler.de/konzerttermin/die-kleine-meerjungfrau-von-akos-hoffmann-in-leipzig-20/
LOCATION:Musikalische Komödie\, Dreilindenstraße 30\, Leipzig\, 04177\, Deutschland
ATTACH;FMTTYPE=image/jpeg:https://www.rieserler.de/wp-content/uploads/2024/03/51294neu-e1724320949148.jpg
END:VEVENT
BEGIN:VEVENT
DTSTART;TZID=Europe/Berlin:20260419T170000
DTEND;TZID=Europe/Berlin:20260419T170000
DTSTAMP:20260419T171425
CREATED:20260213T113529Z
LAST-MODIFIED:20260213T113529Z
UID:29633-1776618000-1776618000@www.rieserler.de
SUMMARY:"AUS THÜRINGEN" von Joachim Raff in Zürich (CH)
DESCRIPTION:Komponist:in: Joachim Raff \nAusführende: Kammerorchester Zürich-Affoltern / Simon Wenger (Ltg.) \n 
URL:https://www.rieserler.de/konzerttermin/aus-thueringen-von-joachim-raff-in-zuerich-seebach/
LOCATION:Markuskirche\, Höhenring 56\, Zürich\, 8052\, Switzerland
ATTACH;FMTTYPE=image/jpeg:https://www.rieserler.de/wp-content/uploads/2024/04/80130-e1714389724883.jpg
END:VEVENT
END:VCALENDAR