BEGIN:VCALENDAR
VERSION:2.0
PRODID:-//Musikverlag Ries &amp; Erler - ECPv6.15.19//NONSGML v1.0//EN
CALSCALE:GREGORIAN
METHOD:PUBLISH
X-WR-CALNAME:Musikverlag Ries &amp; Erler
X-ORIGINAL-URL:https://www.rieserler.de
X-WR-CALDESC:Veranstaltungen für Musikverlag Ries &amp; Erler
REFRESH-INTERVAL;VALUE=DURATION:PT1H
X-Robots-Tag:noindex
X-PUBLISHED-TTL:PT1H
BEGIN:VTIMEZONE
TZID:Europe/Berlin
BEGIN:DAYLIGHT
TZOFFSETFROM:+0100
TZOFFSETTO:+0200
TZNAME:CEST
DTSTART:20240331T010000
END:DAYLIGHT
BEGIN:STANDARD
TZOFFSETFROM:+0200
TZOFFSETTO:+0100
TZNAME:CET
DTSTART:20241027T010000
END:STANDARD
BEGIN:DAYLIGHT
TZOFFSETFROM:+0100
TZOFFSETTO:+0200
TZNAME:CEST
DTSTART:20250330T010000
END:DAYLIGHT
BEGIN:STANDARD
TZOFFSETFROM:+0200
TZOFFSETTO:+0100
TZNAME:CET
DTSTART:20251026T010000
END:STANDARD
BEGIN:DAYLIGHT
TZOFFSETFROM:+0100
TZOFFSETTO:+0200
TZNAME:CEST
DTSTART:20260329T010000
END:DAYLIGHT
BEGIN:STANDARD
TZOFFSETFROM:+0200
TZOFFSETTO:+0100
TZNAME:CET
DTSTART:20261025T010000
END:STANDARD
END:VTIMEZONE
BEGIN:VEVENT
DTSTART;TZID=Europe/Berlin:20250929T093000
DTEND;TZID=Europe/Berlin:20250929T093000
DTSTAMP:20260421T105908
CREATED:20250721T084620Z
LAST-MODIFIED:20250721T084620Z
UID:28615-1759138200-1759138200@www.rieserler.de
SUMMARY:DIE KLEINE MEERJUNGFRAU von Ákos Hoffmann in Bochum
DESCRIPTION:Komponist:in: Ákos Hoffmann \nAusführende: Bochumer Symphoniker / Cecilia Castagneto (Ltg.) / Wolfram Boelzle (Sprecher)
URL:https://www.rieserler.de/konzerttermin/die-kleine-meerjungfrau-von-akos-hoffmann-in-bochum-2/
LOCATION:Anneliese Brost  Musikforum Ruhr\, Marienpl. 1\, Bochum\, 44787\, Deutschland
ATTACH;FMTTYPE=image/jpeg:https://www.rieserler.de/wp-content/uploads/2024/03/51294neu-e1724320949148.jpg
END:VEVENT
BEGIN:VEVENT
DTSTART;TZID=Europe/Berlin:20250929T111500
DTEND;TZID=Europe/Berlin:20250929T111500
DTSTAMP:20260421T105908
CREATED:20250721T084720Z
LAST-MODIFIED:20250721T084720Z
UID:28617-1759144500-1759144500@www.rieserler.de
SUMMARY:DIE KLEINE MEERJUNGFRAU von Ákos Hoffmann in Bochum
DESCRIPTION:Komponist:in: Ákos Hoffmann \nAusführende: Bochumer Symphoniker / Cecilia Castagneto (Ltg.) / Wolfram Boelzle (Sprecher)
URL:https://www.rieserler.de/konzerttermin/die-kleine-meerjungfrau-von-akos-hoffmann-in-bochum-3/
LOCATION:Anneliese Brost  Musikforum Ruhr\, Marienpl. 1\, Bochum\, 44787\, Deutschland
ATTACH;FMTTYPE=image/jpeg:https://www.rieserler.de/wp-content/uploads/2024/03/51294neu-e1724320949148.jpg
END:VEVENT
END:VCALENDAR