BEGIN:VCALENDAR
VERSION:2.0
PRODID:-//Musikverlag Ries &amp; Erler - ECPv6.15.19//NONSGML v1.0//EN
CALSCALE:GREGORIAN
METHOD:PUBLISH
X-WR-CALNAME:Musikverlag Ries &amp; Erler
X-ORIGINAL-URL:https://www.rieserler.de
X-WR-CALDESC:Veranstaltungen für Musikverlag Ries &amp; Erler
REFRESH-INTERVAL;VALUE=DURATION:PT1H
X-Robots-Tag:noindex
X-PUBLISHED-TTL:PT1H
BEGIN:VTIMEZONE
TZID:Europe/Berlin
BEGIN:DAYLIGHT
TZOFFSETFROM:+0100
TZOFFSETTO:+0200
TZNAME:CEST
DTSTART:20240331T010000
END:DAYLIGHT
BEGIN:STANDARD
TZOFFSETFROM:+0200
TZOFFSETTO:+0100
TZNAME:CET
DTSTART:20241027T010000
END:STANDARD
BEGIN:DAYLIGHT
TZOFFSETFROM:+0100
TZOFFSETTO:+0200
TZNAME:CEST
DTSTART:20250330T010000
END:DAYLIGHT
BEGIN:STANDARD
TZOFFSETFROM:+0200
TZOFFSETTO:+0100
TZNAME:CET
DTSTART:20251026T010000
END:STANDARD
BEGIN:DAYLIGHT
TZOFFSETFROM:+0100
TZOFFSETTO:+0200
TZNAME:CEST
DTSTART:20260329T010000
END:DAYLIGHT
BEGIN:STANDARD
TZOFFSETFROM:+0200
TZOFFSETTO:+0100
TZNAME:CET
DTSTART:20261025T010000
END:STANDARD
END:VTIMEZONE
BEGIN:VEVENT
DTSTART;TZID=Europe/Berlin:20250403T180000
DTEND;TZID=Europe/Berlin:20250403T180000
DTSTAMP:20260421T105908
CREATED:20241107T095853Z
LAST-MODIFIED:20241107T100651Z
UID:27322-1743703200-1743703200@www.rieserler.de
SUMMARY:SINFONIE NR. 1 C-MOLL von Emilie Mayer in Pirna
DESCRIPTION:Komponist:in: Emilie Mayer \nHerausgeber:in: Bert Hagels \nAusführende: Elbland Philharmonie / Ekkehard Klemm (Ltg.)
URL:https://www.rieserler.de/konzerttermin/sinfonie-nr-1-c-moll-von-emilie-mayer-in-pirna/
LOCATION:Marienkirche Pirna\, Kirchplatz 13\, Pirna\, 01796\, Deutschland
ATTACH;FMTTYPE=image/jpeg:https://www.rieserler.de/wp-content/uploads/2024/03/51529-e1592557061404.jpg
END:VEVENT
END:VCALENDAR