BEGIN:VCALENDAR
VERSION:2.0
PRODID:-//Musikverlag Ries &amp; Erler - ECPv6.15.19//NONSGML v1.0//EN
CALSCALE:GREGORIAN
METHOD:PUBLISH
X-WR-CALNAME:Musikverlag Ries &amp; Erler
X-ORIGINAL-URL:https://www.rieserler.de
X-WR-CALDESC:Veranstaltungen für Musikverlag Ries &amp; Erler
REFRESH-INTERVAL;VALUE=DURATION:PT1H
X-Robots-Tag:noindex
X-PUBLISHED-TTL:PT1H
BEGIN:VTIMEZONE
TZID:Europe/Berlin
BEGIN:DAYLIGHT
TZOFFSETFROM:+0100
TZOFFSETTO:+0200
TZNAME:CEST
DTSTART:20240331T010000
END:DAYLIGHT
BEGIN:STANDARD
TZOFFSETFROM:+0200
TZOFFSETTO:+0100
TZNAME:CET
DTSTART:20241027T010000
END:STANDARD
BEGIN:DAYLIGHT
TZOFFSETFROM:+0100
TZOFFSETTO:+0200
TZNAME:CEST
DTSTART:20250330T010000
END:DAYLIGHT
BEGIN:STANDARD
TZOFFSETFROM:+0200
TZOFFSETTO:+0100
TZNAME:CET
DTSTART:20251026T010000
END:STANDARD
BEGIN:DAYLIGHT
TZOFFSETFROM:+0100
TZOFFSETTO:+0200
TZNAME:CEST
DTSTART:20260329T010000
END:DAYLIGHT
BEGIN:STANDARD
TZOFFSETFROM:+0200
TZOFFSETTO:+0100
TZNAME:CET
DTSTART:20261025T010000
END:STANDARD
END:VTIMEZONE
BEGIN:VEVENT
DTSTART;TZID=Europe/Berlin:20250320T200000
DTEND;TZID=Europe/Berlin:20250320T200000
DTSTAMP:20260421T105914
CREATED:20250310T153025Z
LAST-MODIFIED:20250310T153025Z
UID:27904-1742500800-1742500800@www.rieserler.de
SUMMARY:NOSFERATU - EINE SYMPHONIE DES GRAUENS von Hans Erdmann in São Paulo (BR)
DESCRIPTION:Komponist:in: Hans Erdmann \nBearbeiter:in: Hans Brandner/ Marcelo Falcão \nAusführende: Orquestra do Theatro São Pedro / Marcelo Falcão (Ltg.)
URL:https://www.rieserler.de/konzerttermin/nosferatu-eine-symphonie-des-grauens-von-hans-erdmann-in-sao-paulo-br/
LOCATION:Theatro São Pedro\, Rua Barra Funda 161\, São Paulo\, 01152-000\, Brasilien
CATEGORIES:Stummfilm
ATTACH;FMTTYPE=image/jpeg:https://www.rieserler.de/wp-content/uploads/2024/05/83036-51532-e1721213411446.jpg
END:VEVENT
END:VCALENDAR