BEGIN:VCALENDAR
VERSION:2.0
PRODID:-//Musikverlag Ries &amp; Erler - ECPv6.15.19//NONSGML v1.0//EN
CALSCALE:GREGORIAN
METHOD:PUBLISH
X-WR-CALNAME:Musikverlag Ries &amp; Erler
X-ORIGINAL-URL:https://www.rieserler.de
X-WR-CALDESC:Veranstaltungen für Musikverlag Ries &amp; Erler
REFRESH-INTERVAL;VALUE=DURATION:PT1H
X-Robots-Tag:noindex
X-PUBLISHED-TTL:PT1H
BEGIN:VTIMEZONE
TZID:Europe/Berlin
BEGIN:DAYLIGHT
TZOFFSETFROM:+0100
TZOFFSETTO:+0200
TZNAME:CEST
DTSTART:20240331T010000
END:DAYLIGHT
BEGIN:STANDARD
TZOFFSETFROM:+0200
TZOFFSETTO:+0100
TZNAME:CET
DTSTART:20241027T010000
END:STANDARD
BEGIN:DAYLIGHT
TZOFFSETFROM:+0100
TZOFFSETTO:+0200
TZNAME:CEST
DTSTART:20250330T010000
END:DAYLIGHT
BEGIN:STANDARD
TZOFFSETFROM:+0200
TZOFFSETTO:+0100
TZNAME:CET
DTSTART:20251026T010000
END:STANDARD
BEGIN:DAYLIGHT
TZOFFSETFROM:+0100
TZOFFSETTO:+0200
TZNAME:CEST
DTSTART:20260329T010000
END:DAYLIGHT
BEGIN:STANDARD
TZOFFSETFROM:+0200
TZOFFSETTO:+0100
TZNAME:CET
DTSTART:20261025T010000
END:STANDARD
END:VTIMEZONE
BEGIN:VEVENT
DTSTART;TZID=Europe/Berlin:20250319T190000
DTEND;TZID=Europe/Berlin:20250319T190000
DTSTAMP:20260421T122201
CREATED:20250515T145648Z
LAST-MODIFIED:20250515T145648Z
UID:28180-1742410800-1742410800@www.rieserler.de
SUMMARY:FAUST EINE DEUTSCHE VOLKSSAGE von Bernd Schultheis in Kiel
DESCRIPTION:Komponist:in: Bernd Schultheis \nAusführende: Philharmonisches Orchester Kiel / Chenglin Li (Ltg.) \n 
URL:https://www.rieserler.de/konzerttermin/faust-eine-deutsche-volkssage-von-bernd-schultheis-in-kiel/
LOCATION:Wunderino Arena\, Europapl. 1\, Kiel\, 24103\, Germany
ATTACH;FMTTYPE=image/jpeg:https://www.rieserler.de/wp-content/uploads/2024/10/Logo_Veranstaltungen_VAs-Webseite-e1760694559691.jpg
END:VEVENT
END:VCALENDAR