BEGIN:VCALENDAR
VERSION:2.0
PRODID:-//Musikverlag Ries &amp; Erler - ECPv6.15.19//NONSGML v1.0//EN
CALSCALE:GREGORIAN
METHOD:PUBLISH
X-WR-CALNAME:Musikverlag Ries &amp; Erler
X-ORIGINAL-URL:https://www.rieserler.de
X-WR-CALDESC:Veranstaltungen für Musikverlag Ries &amp; Erler
REFRESH-INTERVAL;VALUE=DURATION:PT1H
X-Robots-Tag:noindex
X-PUBLISHED-TTL:PT1H
BEGIN:VTIMEZONE
TZID:Europe/Berlin
BEGIN:DAYLIGHT
TZOFFSETFROM:+0100
TZOFFSETTO:+0200
TZNAME:CEST
DTSTART:20230326T010000
END:DAYLIGHT
BEGIN:STANDARD
TZOFFSETFROM:+0200
TZOFFSETTO:+0100
TZNAME:CET
DTSTART:20231029T010000
END:STANDARD
BEGIN:DAYLIGHT
TZOFFSETFROM:+0100
TZOFFSETTO:+0200
TZNAME:CEST
DTSTART:20240331T010000
END:DAYLIGHT
BEGIN:STANDARD
TZOFFSETFROM:+0200
TZOFFSETTO:+0100
TZNAME:CET
DTSTART:20241027T010000
END:STANDARD
BEGIN:DAYLIGHT
TZOFFSETFROM:+0100
TZOFFSETTO:+0200
TZNAME:CEST
DTSTART:20250330T010000
END:DAYLIGHT
BEGIN:STANDARD
TZOFFSETFROM:+0200
TZOFFSETTO:+0100
TZNAME:CET
DTSTART:20251026T010000
END:STANDARD
END:VTIMEZONE
BEGIN:VEVENT
DTSTART;VALUE=DATE:20240420
DTEND;VALUE=DATE:20240421
DTSTAMP:20260425T062049
CREATED:20240429T090309Z
LAST-MODIFIED:20240429T090309Z
UID:25519-1713571200-1713657599@www.rieserler.de
SUMMARY:NOSFERATU - EINE SYMPHONIE DES GRAUENS von Hans Erdmann in Berlin
DESCRIPTION:Komponist:in: Hans Erdmann \nBearbeiter:in: Hans Brandner/ Marcelo Falcão  \nAusführende: Babylon Orchester Berlin
URL:https://www.rieserler.de/konzerttermin/nosferatu-eine-symphonie-des-grauens-von-hans-erdmann-in-berlin-2/
LOCATION:Babylon in Berlin\, Rosa-Luxemburg-Str. 30\, Berlin\, 10178\, Deutschland
CATEGORIES:Stummfilm
ATTACH;FMTTYPE=image/jpeg:https://www.rieserler.de/wp-content/uploads/2023/09/83036-51532-scaled-e1689588057407.jpg
END:VEVENT
END:VCALENDAR