BEGIN:VCALENDAR
VERSION:2.0
PRODID:-//Musikverlag Ries &amp; Erler - ECPv6.15.19//NONSGML v1.0//EN
CALSCALE:GREGORIAN
METHOD:PUBLISH
X-ORIGINAL-URL:https://www.rieserler.de
X-WR-CALDESC:Veranstaltungen für Musikverlag Ries &amp; Erler
REFRESH-INTERVAL;VALUE=DURATION:PT1H
X-Robots-Tag:noindex
X-PUBLISHED-TTL:PT1H
BEGIN:VTIMEZONE
TZID:Europe/Berlin
BEGIN:DAYLIGHT
TZOFFSETFROM:+0100
TZOFFSETTO:+0200
TZNAME:CEST
DTSTART:20250330T010000
END:DAYLIGHT
BEGIN:STANDARD
TZOFFSETFROM:+0200
TZOFFSETTO:+0100
TZNAME:CET
DTSTART:20251026T010000
END:STANDARD
BEGIN:DAYLIGHT
TZOFFSETFROM:+0100
TZOFFSETTO:+0200
TZNAME:CEST
DTSTART:20260329T010000
END:DAYLIGHT
BEGIN:STANDARD
TZOFFSETFROM:+0200
TZOFFSETTO:+0100
TZNAME:CET
DTSTART:20261025T010000
END:STANDARD
BEGIN:DAYLIGHT
TZOFFSETFROM:+0100
TZOFFSETTO:+0200
TZNAME:CEST
DTSTART:20270328T010000
END:DAYLIGHT
BEGIN:STANDARD
TZOFFSETFROM:+0200
TZOFFSETTO:+0100
TZNAME:CET
DTSTART:20271031T010000
END:STANDARD
END:VTIMEZONE
BEGIN:VEVENT
DTSTART;TZID=Europe/Berlin:20260419T000000
DTEND;TZID=Europe/Berlin:20260419T235900
DTSTAMP:20260419T183508
CREATED:20251029T110038Z
LAST-MODIFIED:20251029T110038Z
UID:29191-1776556800-1776643140@www.rieserler.de
SUMMARY:OUVERTURE NR. 2 D-DUR von Emilie Mayer in Basel (CH)
DESCRIPTION:Komponist:in: Emilie Mayer \nBearbeiter:in: Bert Hagels \nAusführende: Titus Orchester
URL:https://www.rieserler.de/konzerttermin/ouverture-nr-2-d-dur-von-emilie-mayer-in-basel-schweiz/
LOCATION:Tituskirche\, Im Tiefen Boden 75\, Basel\, 4059\, Switzerland
ATTACH;FMTTYPE=image/jpeg:https://www.rieserler.de/wp-content/uploads/2024/05/51620-e1721209520836.jpg
END:VEVENT
BEGIN:VEVENT
DTSTART;TZID=Europe/Berlin:20260419T000000
DTEND;TZID=Europe/Berlin:20260419T235900
DTSTAMP:20260419T183508
CREATED:20251029T110307Z
LAST-MODIFIED:20251029T110307Z
UID:29193-1776556800-1776643140@www.rieserler.de
SUMMARY:ORCHESTRAL WORKS von Julie Reisserová in Basel (CH)
DESCRIPTION:Komponist:in: Julie Reisserová \nHerausgeber:in: Jean-Paul C. Montagnier \nAusführende: Titus Orchester
URL:https://www.rieserler.de/konzerttermin/orchestral-works-von-julie-reisserova-in-basel-schweiz/
LOCATION:Tituskirche\, Im Tiefen Boden 75\, Basel\, 4059\, Switzerland
ATTACH;FMTTYPE=image/jpeg:https://www.rieserler.de/wp-content/uploads/2025/01/51695-e1736436029168.jpg
END:VEVENT
BEGIN:VEVENT
DTSTART;TZID=Europe/Berlin:20260419T150000
DTEND;TZID=Europe/Berlin:20260419T150000
DTSTAMP:20260419T183508
CREATED:20250625T080056Z
LAST-MODIFIED:20250625T084716Z
UID:28352-1776610800-1776610800@www.rieserler.de
SUMMARY:DIE KLEINE MEERJUNGFRAU von Ákos Hoffmann in Leipzig
DESCRIPTION:Komponist:in: Ákos Hoffmann \nAusführende: Orchester der musikalischen Komödie / Tobias Engeli (Ltg.)
URL:https://www.rieserler.de/konzerttermin/die-kleine-meerjungfrau-von-akos-hoffmann-in-leipzig-20/
LOCATION:Musikalische Komödie\, Dreilindenstraße 30\, Leipzig\, 04177\, Deutschland
ATTACH;FMTTYPE=image/jpeg:https://www.rieserler.de/wp-content/uploads/2024/03/51294neu-e1724320949148.jpg
END:VEVENT
BEGIN:VEVENT
DTSTART;TZID=Europe/Berlin:20260419T170000
DTEND;TZID=Europe/Berlin:20260419T170000
DTSTAMP:20260419T183508
CREATED:20260213T113529Z
LAST-MODIFIED:20260213T113529Z
UID:29633-1776618000-1776618000@www.rieserler.de
SUMMARY:"AUS THÜRINGEN" von Joachim Raff in Zürich (CH)
DESCRIPTION:Komponist:in: Joachim Raff \nAusführende: Kammerorchester Zürich-Affoltern / Simon Wenger (Ltg.) \n 
URL:https://www.rieserler.de/konzerttermin/aus-thueringen-von-joachim-raff-in-zuerich-seebach/
LOCATION:Markuskirche\, Höhenring 56\, Zürich\, 8052\, Switzerland
ATTACH;FMTTYPE=image/jpeg:https://www.rieserler.de/wp-content/uploads/2024/04/80130-e1714389724883.jpg
END:VEVENT
BEGIN:VEVENT
DTSTART;TZID=Europe/Berlin:20260421T100000
DTEND;TZID=Europe/Berlin:20260421T100000
DTSTAMP:20260419T183508
CREATED:20260203T083606Z
LAST-MODIFIED:20260203T083606Z
UID:29584-1776765600-1776765600@www.rieserler.de
SUMMARY:ELEFANTASIA (Fassung für Bassklarinette\, Akkordeon\, Schlagwerk) von Theodor Burkali in Salzburg (AT)
DESCRIPTION:Komponist:in: Theodor Burkali \nAusführende: Theodor Burkali (Klarinette & Komposition)\, Karin Küstner (Akkordeon)\, Rupert Struber (Schlagwerk)
URL:https://www.rieserler.de/konzerttermin/elefantasia-fassung-fuer-bassklarinette-akkordeon-schlagwerk-von-theodor-burkali-in-salzburg-at-5/
LOCATION:Mozarteum Salzburg\, Erzbischof-Gebhard-Straße 10\, Salzburg\, 5020\, Österreich
ATTACH;FMTTYPE=image/jpeg:https://www.rieserler.de/wp-content/uploads/2024/10/Logo_Veranstaltungen_VAs-Webseite-e1760694559691.jpg
END:VEVENT
BEGIN:VEVENT
DTSTART;TZID=Europe/Berlin:20260422T100000
DTEND;TZID=Europe/Berlin:20260422T100000
DTSTAMP:20260419T183508
CREATED:20260203T083811Z
LAST-MODIFIED:20260203T083811Z
UID:29586-1776852000-1776852000@www.rieserler.de
SUMMARY:ELEFANTASIA (Fassung für Bassklarinette\, Akkordeon\, Schlagwerk) von Theodor Burkali in Salzburg (AT)
DESCRIPTION:Komponist:in: Theodor Burkali \nAusführende: Theodor Burkali (Klarinette & Komposition)\, Karin Küstner (Akkordeon)\, Rupert Struber (Schlagwerk)
URL:https://www.rieserler.de/konzerttermin/elefantasia-fassung-fuer-bassklarinette-akkordeon-schlagwerk-von-theodor-burkali-in-salzburg-at-6/
LOCATION:Mozarteum Salzburg\, Erzbischof-Gebhard-Straße 10\, Salzburg\, 5020\, Österreich
ATTACH;FMTTYPE=image/jpeg:https://www.rieserler.de/wp-content/uploads/2024/10/Logo_Veranstaltungen_VAs-Webseite-e1760694559691.jpg
END:VEVENT
BEGIN:VEVENT
DTSTART;TZID=Europe/Berlin:20260423T100000
DTEND;TZID=Europe/Berlin:20260423T100000
DTSTAMP:20260419T183508
CREATED:20260203T083933Z
LAST-MODIFIED:20260203T083933Z
UID:29588-1776938400-1776938400@www.rieserler.de
SUMMARY:ELEFANTASIA (Fassung für Bassklarinette\, Akkordeon\, Schlagwerk) von Theodor Burkali in Salzburg (AT)
DESCRIPTION:Komponist:in: Theodor Burkali \nAusführende: Theodor Burkali (Klarinette & Komposition)\, Karin Küstner (Akkordeon)\, Rupert Struber (Schlagwerk)
URL:https://www.rieserler.de/konzerttermin/elefantasia-fassung-fuer-bassklarinette-akkordeon-schlagwerk-von-theodor-burkali-in-salzburg-at-7/
LOCATION:Mozarteum Salzburg\, Erzbischof-Gebhard-Straße 10\, Salzburg\, 5020\, Österreich
ATTACH;FMTTYPE=image/jpeg:https://www.rieserler.de/wp-content/uploads/2024/10/Logo_Veranstaltungen_VAs-Webseite-e1760694559691.jpg
END:VEVENT
BEGIN:VEVENT
DTSTART;TZID=Europe/Berlin:20260423T190000
DTEND;TZID=Europe/Berlin:20260423T190000
DTSTAMP:20260419T183508
CREATED:20260113T085943Z
LAST-MODIFIED:20260113T085943Z
UID:29437-1776970800-1776970800@www.rieserler.de
SUMMARY:SINFONIE NR. 1 E-DUR von Hans Rott in Sofia (BG)
DESCRIPTION:Komponist:in: Hans Rott \nHerausgeber:in: Bert Hagels \nAusführende: Sofia Philharmonic Orchestra / Neeme Järvi (Ltg.)
URL:https://www.rieserler.de/konzerttermin/sinfonie-nr-1-e-dur-von-hans-rott-in-sofia-bulgarien/
LOCATION:Bulgaria Concert Hall\, Sofia Center\, ul. “Aksakov„ 1\, Sofia\, 1000\, Bulgaria
ATTACH;FMTTYPE=image/jpeg:https://www.rieserler.de/wp-content/uploads/2024/05/51121_600dpi-e1721210211585.jpg
END:VEVENT
BEGIN:VEVENT
DTSTART;TZID=Europe/Berlin:20260423T193000
DTEND;TZID=Europe/Berlin:20260423T193000
DTSTAMP:20260419T183508
CREATED:20260113T095428Z
LAST-MODIFIED:20260113T095428Z
UID:29454-1776972600-1776972600@www.rieserler.de
SUMMARY:DIE LEGENDE VON PAUL & PAULA von Peter Gotthardt in Nordhausen
DESCRIPTION:Komponist:in: Peter Gotthardt \nAusführende: Loh-Orchester Sondershausen
URL:https://www.rieserler.de/konzerttermin/die-legende-von-paul-paula-von-peter-gotthardt-in-nordhausen-2/
LOCATION:Theater Nordhausen\, Käthe-Kollwitz-Straße 15\, Nordhausen\, 99734\, Deutschland
ATTACH;FMTTYPE=image/jpeg:https://www.rieserler.de/wp-content/uploads/2026/01/51183.jpg
END:VEVENT
BEGIN:VEVENT
DTSTART;TZID=Europe/Berlin:20260424T100000
DTEND;TZID=Europe/Berlin:20260424T100000
DTSTAMP:20260419T183508
CREATED:20260203T084105Z
LAST-MODIFIED:20260203T084105Z
UID:29590-1777024800-1777024800@www.rieserler.de
SUMMARY:ELEFANTASIA (Fassung für Bassklarinette\, Akkordeon\, Schlagwerk) von Theodor Burkali in Salzburg (AT)
DESCRIPTION:Komponist:in: Theodor Burkali \nAusführende: Theodor Burkali (Klarinette & Komposition)\, Karin Küstner (Akkordeon)\, Rupert Struber (Schlagwerk)
URL:https://www.rieserler.de/konzerttermin/elefantasia-fassung-fuer-bassklarinette-akkordeon-schlagwerk-von-theodor-burkali-in-salzburg-at-8/
LOCATION:Mozarteum Salzburg\, Erzbischof-Gebhard-Straße 10\, Salzburg\, 5020\, Österreich
ATTACH;FMTTYPE=image/jpeg:https://www.rieserler.de/wp-content/uploads/2024/10/Logo_Veranstaltungen_VAs-Webseite-e1760694559691.jpg
END:VEVENT
BEGIN:VEVENT
DTSTART;TZID=Europe/Berlin:20260424T193000
DTEND;TZID=Europe/Berlin:20260424T193000
DTSTAMP:20260419T183508
CREATED:20260113T090832Z
LAST-MODIFIED:20260126T113259Z
UID:29440-1777059000-1777059000@www.rieserler.de
SUMMARY:SINFONIE NR. 1 E-DUR von Hans Rott in Siegen
DESCRIPTION:Komponist:in: Hans Rott \nHerausgeber:in: Bert Hagels \nAusführende: Philharmonie Südwestfalen / Markus Huber (Ltg.)
URL:https://www.rieserler.de/konzerttermin/sinfonie-nr-1-e-dur-von-hans-rott-in-siegen/
LOCATION:Apollo-Theater\, Morleystraße 1\, Siegen\, 57072\, Germany
ATTACH;FMTTYPE=image/jpeg:https://www.rieserler.de/wp-content/uploads/2024/05/51121_600dpi-e1721210211585.jpg
END:VEVENT
BEGIN:VEVENT
DTSTART;TZID=Europe/Berlin:20260425T193000
DTEND;TZID=Europe/Berlin:20260425T193000
DTSTAMP:20260419T183508
CREATED:20250702T145047Z
LAST-MODIFIED:20250702T145047Z
UID:28409-1777145400-1777145400@www.rieserler.de
SUMMARY:RA Ritual für 10 Querflöten von Enjott Schneider in Gilching
DESCRIPTION:Komponist:in: Enjott Schneider \nAusführende: Münchner Flötenensemble / Elisabeth Weinzierl und Edmund Wächter (Ltg.)
URL:https://www.rieserler.de/konzerttermin/ra-ritual-fuer-10-querfloeten-von-enjott-schneider-in-gilching/
LOCATION:Christoph-Probst-Gymnasium\, Talhofstraße 7\, Gilching\, 82205\, Germany
ATTACH;FMTTYPE=image/jpeg:https://www.rieserler.de/wp-content/uploads/2025/07/20047-e1751467827168.jpg
END:VEVENT
BEGIN:VEVENT
DTSTART;TZID=Europe/Berlin:20260425T193000
DTEND;TZID=Europe/Berlin:20260425T193000
DTSTAMP:20260419T183508
CREATED:20260302T091336Z
LAST-MODIFIED:20260302T102012Z
UID:29709-1777145400-1777145400@www.rieserler.de
SUMMARY:DIE LEGENDE VON PAUL & PAULA von Peter Gotthardt in Sondershausen
DESCRIPTION:Komponist:in: Peter Gotthardt \nAusführende: Loh-Orchester Sondershausen
URL:https://www.rieserler.de/konzerttermin/die-legende-von-paul-paula-von-peter-gotthardt-in-sondershausen-3/
LOCATION:Haus der Kunst\, Im Loh 1\, Sondershausen\, 99706\, Deutschland
ATTACH;FMTTYPE=image/jpeg:https://www.rieserler.de/wp-content/uploads/2026/01/51183.jpg
END:VEVENT
BEGIN:VEVENT
DTSTART;TZID=Europe/Berlin:20260425T200000
DTEND;TZID=Europe/Berlin:20260425T200000
DTSTAMP:20260419T183508
CREATED:20260209T155752Z
LAST-MODIFIED:20260213T090924Z
UID:29613-1777147200-1777147200@www.rieserler.de
SUMMARY:DIE ABENTEUER DES PRINZEN ACHMED (Fassung für kleines Orchester) von Wolfgang Zeller in Darmstadt
DESCRIPTION:Komponist:in: Wolfgang Zeller \nBearbeiter:in: Jens Schubbe \nAusführende: Kammerochester der TU Darmstadt / Arndt Heyer (Ltg.) \n 
URL:https://www.rieserler.de/konzerttermin/die-abenteuer-des-prinzen-achmed-fassung-fuer-kleines-orchester-von-wolfgang-zeller-in-darmstadt/
LOCATION:Audimax der TU Darmstadt\, Karolinenpl. 5\, Darmstadt\, 64289\, Germany
ATTACH;FMTTYPE=image/jpeg:https://www.rieserler.de/wp-content/uploads/2026/01/51216_83024-e1769433203584.jpg
END:VEVENT
BEGIN:VEVENT
DTSTART;TZID=Europe/Berlin:20260426T110000
DTEND;TZID=Europe/Berlin:20260426T110000
DTSTAMP:20260419T183508
CREATED:20260203T084335Z
LAST-MODIFIED:20260203T084555Z
UID:29592-1777201200-1777201200@www.rieserler.de
SUMMARY:ELEFANTASIA (Fassung für Bassklarinette\, Akkordeon\, Schlagwerk) von Theodor Burkali in Salzburg (AT)
DESCRIPTION:Komponist:in: Theodor Burkali \nAusführende: Theodor Burkali (Klarinette & Komposition)\, Karin Küstner (Akkordeon)\, Rupert Struber (Schlagwerk)
URL:https://www.rieserler.de/konzerttermin/elefantasia-fassung-fuer-bassklarinette-akkordeon-schlagwerk-von-theodor-burkali-in-salzburg-at-9/
LOCATION:Mozarteum Salzburg\, Erzbischof-Gebhard-Straße 10\, Salzburg\, 5020\, Österreich
ATTACH;FMTTYPE=image/jpeg:https://www.rieserler.de/wp-content/uploads/2024/10/Logo_Veranstaltungen_VAs-Webseite-e1760694559691.jpg
END:VEVENT
BEGIN:VEVENT
DTSTART;TZID=Europe/Berlin:20260426T150000
DTEND;TZID=Europe/Berlin:20260426T150000
DTSTAMP:20260419T183508
CREATED:20260203T084459Z
LAST-MODIFIED:20260203T084614Z
UID:29594-1777215600-1777215600@www.rieserler.de
SUMMARY:ELEFANTASIA (Fassung für Bassklarinette\, Akkordeon\, Schlagwerk) von Theodor Burkali in Salzburg (AT)
DESCRIPTION:Komponist:in: Theodor Burkali \nAusführende: Theodor Burkali (Klarinette & Komposition)\, Karin Küstner (Akkordeon)\, Rupert Struber (Schlagwerk)
URL:https://www.rieserler.de/konzerttermin/elefantasia-fassung-fuer-bassklarinette-akkordeon-schlagwerk-von-theodor-burkali-in-salzburg-at-10/
LOCATION:Mozarteum Salzburg\, Erzbischof-Gebhard-Straße 10\, Salzburg\, 5020\, Österreich
ATTACH;FMTTYPE=image/jpeg:https://www.rieserler.de/wp-content/uploads/2024/10/Logo_Veranstaltungen_VAs-Webseite-e1760694559691.jpg
END:VEVENT
BEGIN:VEVENT
DTSTART;TZID=Europe/Berlin:20260426T180000
DTEND;TZID=Europe/Berlin:20260426T180000
DTSTAMP:20260419T183508
CREATED:20260213T090631Z
LAST-MODIFIED:20260213T091125Z
UID:29620-1777226400-1777226400@www.rieserler.de
SUMMARY:DIE ABENTEUER DES PRINZEN ACHMED (Fassung für kleines Orchester) von Wolfgang Zeller in Seeheim
DESCRIPTION:Komponist:in: Wolfgang Zeller \nBearbeiter:in: Jens Schubbe \nAusführende: Kammerochester der TU Darmstadt / Arndt Heyer (Ltg.) \n 
URL:https://www.rieserler.de/konzerttermin/die-abenteuer-des-prinzen-achmed-fassung-fuer-kleines-orchester-von-wolfgang-zeller-in-seeheim/
LOCATION:Forum am Rathaus\, Schulstraße 18\, Seeheim-Jugenheim\, 64342\, Germany
ATTACH;FMTTYPE=image/jpeg:https://www.rieserler.de/wp-content/uploads/2026/01/51216_83024-e1769433203584.jpg
END:VEVENT
BEGIN:VEVENT
DTSTART;TZID=Europe/Berlin:20260428T100000
DTEND;TZID=Europe/Berlin:20260428T100000
DTSTAMP:20260419T183508
CREATED:20250625T084353Z
LAST-MODIFIED:20250625T084353Z
UID:28354-1777370400-1777370400@www.rieserler.de
SUMMARY:DIE KLEINE MEERJUNGFRAU von Ákos Hoffmann in Leipzig
DESCRIPTION:Komponist:in: Ákos Hoffmann \nAusführende: Orchester der musikalischen Komödie / Tobias Engeli (Ltg.)
URL:https://www.rieserler.de/konzerttermin/die-kleine-meerjungfrau-von-akos-hoffmann-in-leipzig-21/
LOCATION:Musikalische Komödie\, Dreilindenstraße 30\, Leipzig\, 04177\, Deutschland
ATTACH;FMTTYPE=image/jpeg:https://www.rieserler.de/wp-content/uploads/2024/03/51294neu-e1724320949148.jpg
END:VEVENT
BEGIN:VEVENT
DTSTART;TZID=Europe/Berlin:20260428T200000
DTEND;TZID=Europe/Berlin:20260428T200000
DTSTAMP:20260419T183508
CREATED:20260323T142430Z
LAST-MODIFIED:20260323T142430Z
UID:29759-1777406400-1777406400@www.rieserler.de
SUMMARY:METROPOLIS FUER ORCHESTER von Gottfried Huppertz in Strasbourg (FR)
DESCRIPTION:Komponist:in: Gottfried Huppertz \nBearbeiter:in: Berndt Heller \nAusführende: Orchestre philharmonique de Strasbourg / Aziz Shokhakimov (Ltg.)
URL:https://www.rieserler.de/konzerttermin/metropolis-fuer-orchester-von-gottfried-huppertz-in-strasbourg-france/
LOCATION:Palais de la Musique et des Congrès\, Palais des Congrès\, Pl. de Bordeaux\, Strasbourg\, 67000\, France
ATTACH;FMTTYPE=image/jpeg:https://www.rieserler.de/wp-content/uploads/2024/05/51150-1-e1721210753837.jpg
END:VEVENT
BEGIN:VEVENT
DTSTART;TZID=Europe/Berlin:20260429T100000
DTEND;TZID=Europe/Berlin:20260429T100000
DTSTAMP:20260419T183508
CREATED:20250625T084514Z
LAST-MODIFIED:20250625T084514Z
UID:28356-1777456800-1777456800@www.rieserler.de
SUMMARY:DIE KLEINE MEERJUNGFRAU von Ákos Hoffmann in Leipzig
DESCRIPTION:Komponist:in: Ákos Hoffmann \nAusführende: Orchester der musikalischen Komödie / Tobias Engeli (Ltg.)
URL:https://www.rieserler.de/konzerttermin/die-kleine-meerjungfrau-von-akos-hoffmann-in-leipzig-22/
LOCATION:Musikalische Komödie\, Dreilindenstraße 30\, Leipzig\, 04177\, Deutschland
ATTACH;FMTTYPE=image/jpeg:https://www.rieserler.de/wp-content/uploads/2024/03/51294neu-e1724320949148.jpg
END:VEVENT
BEGIN:VEVENT
DTSTART;TZID=Europe/Berlin:20260429T200000
DTEND;TZID=Europe/Berlin:20260429T200000
DTSTAMP:20260419T183508
CREATED:20260323T142621Z
LAST-MODIFIED:20260323T142621Z
UID:29761-1777492800-1777492800@www.rieserler.de
SUMMARY:METROPOLIS FUER ORCHESTER von Gottfried Huppertz in Strasbourg (FR)
DESCRIPTION:Komponist:in: Gottfried Huppertz \nBearbeiter:in: Berndt Heller \nAusführende: Orchestre philharmonique de Strasbourg / Aziz Shokhakimov (Ltg.)
URL:https://www.rieserler.de/konzerttermin/metropolis-fuer-orchester-von-gottfried-huppertz-in-strasbourg-fr/
LOCATION:Palais de la Musique et des Congrès\, Palais des Congrès\, Pl. de Bordeaux\, Strasbourg\, 67000\, France
ATTACH;FMTTYPE=image/jpeg:https://www.rieserler.de/wp-content/uploads/2024/05/51150-1-e1721210753837.jpg
END:VEVENT
BEGIN:VEVENT
DTSTART;TZID=Europe/Berlin:20260430T180000
DTEND;TZID=Europe/Berlin:20260430T180000
DTSTAMP:20260419T183508
CREATED:20260302T091542Z
LAST-MODIFIED:20260302T091653Z
UID:29711-1777572000-1777572000@www.rieserler.de
SUMMARY:DIE LEGENDE VON PAUL & PAULA von Peter Gotthardt in Nordhausen
DESCRIPTION:Komponist:in: Peter Gotthardt \nAusführende: Loh-Orchester Sondershausen
URL:https://www.rieserler.de/konzerttermin/die-legende-von-paul-paula-von-peter-gotthardt-in-nordhausen-5/
LOCATION:Theater Nordhausen\, Käthe-Kollwitz-Straße 15\, Nordhausen\, 99734\, Deutschland
ATTACH;FMTTYPE=image/jpeg:https://www.rieserler.de/wp-content/uploads/2026/01/51183.jpg
END:VEVENT
END:VCALENDAR